BEGIN:VCALENDAR
VERSION:2.0
PRODID:-//Simplement être : oser pour Être - ECPv6.15.17.1//NONSGML v1.0//EN
CALSCALE:GREGORIAN
METHOD:PUBLISH
X-ORIGINAL-URL:https://simplementetre.com
X-WR-CALDESC:Évènements pour Simplement être : oser pour Être
REFRESH-INTERVAL;VALUE=DURATION:PT1H
X-Robots-Tag:noindex
X-PUBLISHED-TTL:PT1H
BEGIN:VTIMEZONE
TZID:Europe/Zurich
BEGIN:DAYLIGHT
TZOFFSETFROM:+0100
TZOFFSETTO:+0200
TZNAME:CEST
DTSTART:20240331T010000
END:DAYLIGHT
BEGIN:STANDARD
TZOFFSETFROM:+0200
TZOFFSETTO:+0100
TZNAME:CET
DTSTART:20241027T010000
END:STANDARD
BEGIN:DAYLIGHT
TZOFFSETFROM:+0100
TZOFFSETTO:+0200
TZNAME:CEST
DTSTART:20250330T010000
END:DAYLIGHT
BEGIN:STANDARD
TZOFFSETFROM:+0200
TZOFFSETTO:+0100
TZNAME:CET
DTSTART:20251026T010000
END:STANDARD
BEGIN:DAYLIGHT
TZOFFSETFROM:+0100
TZOFFSETTO:+0200
TZNAME:CEST
DTSTART:20260329T010000
END:DAYLIGHT
BEGIN:STANDARD
TZOFFSETFROM:+0200
TZOFFSETTO:+0100
TZNAME:CET
DTSTART:20261025T010000
END:STANDARD
END:VTIMEZONE
BEGIN:VEVENT
DTSTART;TZID=Europe/Zurich:20251010T193000
DTEND;TZID=Europe/Zurich:20251010T214500
DTSTAMP:20260423T224439
CREATED:20250620T124317Z
LAST-MODIFIED:20250920T135044Z
UID:4762-1760124600-1760132700@simplementetre.com
SUMMARY:Supra Métamorphose
DESCRIPTION:🌹 Soirée Supra Métamorphose  – Transcender un état d’Être pour un atteindre un autre\, toujours plus haut en Soi 🌹 \nVendredi 10 octobre 2025 – 19h30\nSalle Demeter\, 1284 Chancy\nDurée : 2h15 à 2h45\nTarif : CHF 88.– (arrangements possibles pour petits budgets) \nJ’ouvre un espace sacré pour une soirée supra Métamorphose\, dédiée à l’ouverture et au déploiement de la conscience à travers des enseignements initiatiques de haute sagesse. \nCe qui s’accomplit lors de ces soirées ne peut être saisi par les mots.\nLa véritable Réalisation se vit dans le silence du cœur\, là où l’âme\, touchée en profondeur\, s’ouvre à sa propre lumière. \n✨ À qui s’adresse cette soirée ? \nÀ toute personne en quête d’expansion\, de profondeur\, de clarté et de reconnexion à sa Divinité intérieure.\nL’Âme sait : elle a soif de ces enseignements auxquels elle aspire depuis des millénaires.\nIl faut vivre l’expérience pour réaliser la puissance de la transmission. \n✨ Pourquoi participer ? \nCes soirées sont de puissants portails de transformation.\nVous y recevez des enseignements initiatiques hors du commun\, expérimentez dans le corps la magie\, la puissance et l’authenticité d’une transmission vivante\, et repartez avec des clés concrètes pour avancer sur votre chemin. \nChaque rencontre est unique\, en lien avec les énergies du moment\, et vous offre une guidance profonde pour votre évolution. \nQue vous soyez au début de votre chemin ou déjà engagé(e) dans une démarche spirituelle\, vous êtes le ou la bienvenue pour vivre une expérience transcendante et recevoir des enseignements de Haute Sagesse\, adaptés à chacun. \n✨ Ce que vous allez vivre : \n\nExpérience vibratoire et corporelle transcendante\nEnseignements initiatiques de Haute Sagesse\nTransmission orale d’anciens savoirs\nOuverture de conscience et intégrations\nUn espace de partage\, de magie et de profondeur\n\nChacun reçoit ce qui est parfaitement adapté à son âme et à son chemin.\nVous pouvez participer à une ou plusieurs soirées\, selon vos disponibilités : chaque transmission est différente et complémentaire. \nIl est temps de répondre à l’appel de votre âme\, d’avancer vers la réalisation de votre Divinité intérieure pour laisser votre propre intelligence se déployer. \n✨ Modalités pratiques : \n\nDate : Vendredi 10 octobre  2025 de 19h30 à 21h45\nLieu : Salle Demeter – Route de Passeiry 55 – 1284 Chancy\nTarif : CHF 88 – Paiement à effectuer à l’inscription\nPlaces limitées\nDate limite d’inscription : Jeudi 8 octobre à 18 heures\n\nUn échange téléphonique est nécessaire si nous nous rencontrons pour la première fois. \nPour celles et ceux dont l’énergie m’est déjà familière\, une inscription par mail ou par message téléphonique convient parfaitement. \n✨ À propos du tarif :  \nLe tarif de CHF 88.– reflète la puissance et la rareté de la transmission proposée.\nDerrière chaque rencontre\, il y a des années de formations\, d’initiations et d’investissements personnels (plus de 30 000 CHF en 2025) pour vous offrir ces espaces d’une grande justesse\, où chaque enseignement est vivant\, authentique et profondément transformateur. \nL’argent\, en tant qu’énergie vivante\, est appelé à circuler pour accompagner la croissance intérieure. Je fais en sorte qu’il ne soit jamais un frein à la transformation. Si besoin\, des arrangements sont possibles pour les petits budgets. N’hésitez pas à me contacter en toute simplicité. \n✨ Paiement : \n\nPar virement bancaire (coordonnées ci-dessous\, à privilégier)\nPar carte bancaire sur le site : https://simplementetre.com/soins/   \n\n✨ Coordonnées bancaires : \nPour les personnes ayant un compte bancaire en Suisse : \n\nTitulaire du compte FARANNA Christèle – Simplement Être\nAdresse postale Rue Peillonex 26 – 1225 Chêne-Bourg\nNuméro de compte 16-564987-7\nIBAN CH96 0900 0000 1656 4987 7\nBIC POFICHBEXXX\n\nPour les personnes ne disposant pas d’un compte bancaire en Suisse : \n\nTitulaire du compte FARANNA Christèle – Simplement Être\nAdresse postale Rue Peillonex 26 – 1225 Chêne-Bourg\nNuméro de compte 16-564982-4\nIBAN CH72 0900 0000 1656 4982 4\nBIC POFICHBEXXX\n\nJe me réjouis de partager avec vous ce moment de transcendance. \nFaites rayonner cette invitation autour de vous : plus nous sommes nombreux à vibrer ensemble\, plus la puissance du groupe s’élève.\nChaque personne qui rejoint ce cercle contribue à l’énergie collective et permet à d’autres âmes de découvrir cette voie d’expansion et de transformation. \nChristèle\,\nAu service des Energies Divines et Christiques \nImportant : \nMes prestations ne sauraient se substituer à un suivi médical ou psychologique. \n🌹✨
URL:https://simplementetre.com/agenda/soiree-de-deploiement-du-champ-de-conscience-3/
LOCATION:Privé : Salle Demeter\, Route de Passeiry 55\, Chancy\, 1284\, Switzerland
CATEGORIES:Mixte
ATTACH;FMTTYPE=image/jpeg:https://simplementetre.com/wp-content/uploads/631e138e26480.jpg
END:VEVENT
END:VCALENDAR