BEGIN:VCALENDAR
VERSION:2.0
PRODID:-//Simplement être : oser pour Être - ECPv6.15.17.1//NONSGML v1.0//EN
CALSCALE:GREGORIAN
METHOD:PUBLISH
X-WR-CALNAME:Simplement être : oser pour Être
X-ORIGINAL-URL:https://simplementetre.com
X-WR-CALDESC:Évènements pour Simplement être : oser pour Être
REFRESH-INTERVAL;VALUE=DURATION:PT1H
X-Robots-Tag:noindex
X-PUBLISHED-TTL:PT1H
BEGIN:VTIMEZONE
TZID:Europe/Zurich
BEGIN:DAYLIGHT
TZOFFSETFROM:+0100
TZOFFSETTO:+0200
TZNAME:CEST
DTSTART:20250330T010000
END:DAYLIGHT
BEGIN:STANDARD
TZOFFSETFROM:+0200
TZOFFSETTO:+0100
TZNAME:CET
DTSTART:20251026T010000
END:STANDARD
BEGIN:DAYLIGHT
TZOFFSETFROM:+0100
TZOFFSETTO:+0200
TZNAME:CEST
DTSTART:20260329T010000
END:DAYLIGHT
BEGIN:STANDARD
TZOFFSETFROM:+0200
TZOFFSETTO:+0100
TZNAME:CET
DTSTART:20261025T010000
END:STANDARD
BEGIN:DAYLIGHT
TZOFFSETFROM:+0100
TZOFFSETTO:+0200
TZNAME:CEST
DTSTART:20270328T010000
END:DAYLIGHT
BEGIN:STANDARD
TZOFFSETFROM:+0200
TZOFFSETTO:+0100
TZNAME:CET
DTSTART:20271031T010000
END:STANDARD
END:VTIMEZONE
BEGIN:VEVENT
DTSTART;TZID=Europe/Zurich:20260207T101500
DTEND;TZID=Europe/Zurich:20260207T120000
DTSTAMP:20260423T173637
CREATED:20251217T181417Z
LAST-MODIFIED:20251220T145311Z
UID:8639-1770459300-1770465600@simplementetre.com
SUMMARY:🌹 Supra Métamorphose ✨
DESCRIPTION:🌹 Supra Métamorphose – Transcender un état d’Être pour en atteindre un autre\, toujours plus haut en Soi 🌹 \nVous ressentez l’appel à vivre une expérience qui élève\, nourrit et transforme ?\nVous souhaitez ouvrir un nouveau chapitre sur votre chemin spirituel\, recevoir des enseignements vivants et vous relier à une énergie collective puissante ?\nSupra Métamorphose est un espace sacré pour celles et ceux qui souhaitent avancer vers la réalisation de leur être\, s’ouvrir à la lumière et à la sagesse\, et laisser émerger de nouveaux possibles dans leur vie. \nSamedi 7 février 2026 – 10h15\nSalle Demeter – Route de Passeiry 55 – 1284 Chancy\nDurée : 1h45\nTarif : CHF 88.– (arrangements possibles pour petits budgets) \n✨ Vivre ce moment\, c’est offrir à votre âme un tremplin pour franchir un cap\, accueillir le renouveau et laisser rayonner votre propre lumière\, dans la douceur et la puissance du groupe. \n✨ À qui s’adresse cette soirée ?\nÀ toute personne en quête d’expansion\, de profondeur\, de clarté et de reconnexion à sa dimension spirituelle.\nQue vous soyez au début de votre chemin ou déjà engagé(e)\, vous êtes le ou la bienvenue pour vivre une expérience transcendante et recevoir des enseignements adaptés à chacun. \n✨ Pourquoi participer ?\nLes espaces Supra Métamorphoses  sont de puissants portails de transformation. \n✨ Ce que vous allez vivre : \n\nDes enseignements initiatiques hors du commun pour nourrir votre âme et élargir votre conscience\nUne expérience vibratoire et corporelle transcendante\nDes clés concrètes pour avancer\, dépasser vos limitations et rayonner pleinement qui vous êtes\nUn espace de partage\, de soutien et de magie\, où la puissance du groupe amplifie chaque transformation individuelle\n\nChaque rencontre est unique\, en lien avec les énergies du moment\, et vous offre une guidance profonde pour votre évolution. \nIl est temps de répondre à l’appel de votre âme\, d’avancer vers la réalisation de votre Divinité intérieure pour laisser votre propre intelligence se déployer. \n✨ Modalités pratiques : \n\nDate : Samedi 7 février 2026 de 10h15 à 12h00 – Merci d’arriver pour 10 heures.\nLieu : Salle Demeter – Route de Passeiry 55 – 1284 Chancy\nTarif : CHF 88.– (paiement à effectuer à l’inscription)\nPlaces limitées\nInscription en ligne via le bouton “inscription” au bas de cette page \nVous venez pour la première fois ? : je vous contacterai avant l’évènement pour un bref échange.\nUne fois votre inscription validée\, vous recevrez toutes les informations pratiques pour l’évènement\n\n✨ Paiement \n\nPour les personnes résidant en Suisse\, merci de privilégier le virement bancaire (informations sur la page contact)\nPour les personnes hors Suisse\, le paiement en ligne via Stripe est recommandé (informations sur la page contact)\nPaiement en espèces possible le jour du rendez-vous\n\nFaites rayonner cette invitation autour de vous : chaque partage est une graine de lumière semée dans le cœur du monde. \nAvec joie et gratitude\,\nChristèle 🌹 \nImportant : Mes prestations ne sauraient se substituer à un suivi médical ou psychologique.
URL:https://simplementetre.com/agenda/%f0%9f%8c%b9-soiree-supra-metamorphose-%e2%9c%a8-2/
LOCATION:Privé : Salle Demeter\, Route de Passeiry 55\, Chancy\, 1284\, Switzerland
ATTACH;FMTTYPE=image/png:https://simplementetre.com/wp-content/uploads/ai-generated-8722442_1280.png
END:VEVENT
END:VCALENDAR