BEGIN:VCALENDAR
VERSION:2.0
PRODID:-//Simplement être : oser pour Être - ECPv6.15.17.1//NONSGML v1.0//EN
CALSCALE:GREGORIAN
METHOD:PUBLISH
X-ORIGINAL-URL:https://simplementetre.com
X-WR-CALDESC:Évènements pour Simplement être : oser pour Être
REFRESH-INTERVAL;VALUE=DURATION:PT1H
X-Robots-Tag:noindex
X-PUBLISHED-TTL:PT1H
BEGIN:VTIMEZONE
TZID:Europe/Zurich
BEGIN:DAYLIGHT
TZOFFSETFROM:+0100
TZOFFSETTO:+0200
TZNAME:CEST
DTSTART:20250330T010000
END:DAYLIGHT
BEGIN:STANDARD
TZOFFSETFROM:+0200
TZOFFSETTO:+0100
TZNAME:CET
DTSTART:20251026T010000
END:STANDARD
BEGIN:DAYLIGHT
TZOFFSETFROM:+0100
TZOFFSETTO:+0200
TZNAME:CEST
DTSTART:20260329T010000
END:DAYLIGHT
BEGIN:STANDARD
TZOFFSETFROM:+0200
TZOFFSETTO:+0100
TZNAME:CET
DTSTART:20261025T010000
END:STANDARD
BEGIN:DAYLIGHT
TZOFFSETFROM:+0100
TZOFFSETTO:+0200
TZNAME:CEST
DTSTART:20270328T010000
END:DAYLIGHT
BEGIN:STANDARD
TZOFFSETFROM:+0200
TZOFFSETTO:+0100
TZNAME:CET
DTSTART:20271031T010000
END:STANDARD
END:VTIMEZONE
BEGIN:VEVENT
DTSTART;TZID=Europe/Zurich:20260410T100000
DTEND;TZID=Europe/Zurich:20260410T170000
DTSTAMP:20260423T151744
CREATED:20251023T165209Z
LAST-MODIFIED:20260413T163744Z
UID:7465-1775815200-1775840400@simplementetre.com
SUMMARY:💎 Journée Initiatique – Cercle Solide comme un Roc
DESCRIPTION:💎 Journée Initiatique – Cercle Solide comme un Roc 💎\nRéservée aux personnes ayant suivi le programme  \nAprès avoir traversé ensemble l’expérience profonde de « Solide comme un Roc »\, je vous propose une journée initiatique unique\, spécialement conçue pour celles et ceux qui ont déjà intégré ce programme. \nPourquoi cette journée ?\n✨ Pour aller encore plus loin dans l’intégration\, l’expansion et l’ancrage de tout ce que vous avez vécu.\n✨ Pour vous offrir un espace de ressourcement\, de partage\, de rituels et de pratiques avancées\, dans la puissance du cercle et la bienveillance du groupe.\n✨ Pour célébrer votre chemin\, ouvrir de nouveaux espaces de conscience\, et continuer à rayonner votre force intérieure dans la vie quotidienne. \nAu programme :\n🔹 Pratiques initiatiques et rituels\n🔹 Temps de partage\, d’écoute et de soutien\n🔹 Méditations\, mouvements\, intégration vibratoire\n🔹 Ouverture à de nouveaux enseignements et à la guidance du moment\n🔹 Un espace pour déposer\, célébrer\, et repartir avec une énergie renouvelée \nPour qui ?\n🌟 Pour toutes les personnes ayant déjà suivi le programme « Solide comme un Roc » (en individuel ou en groupe). \nInformations pratiques :\n📅 Date : samedi 23 mai 2026\n🕙 Horaires : 10h – 17h (avec pause déjeuner partagée)\n📍 Lieu : Salle Demeter – Route de Passeiry 55\, 1284 Chancy \n💎 Tarif : CHF 177\nCe tarif est une invitation à poursuivre l’intégration et l’expansion de votre chemin\, en reconnaissance de votre engagement dans le programme.\n✨ Si vous traversez une période difficile\, n’hésitez pas à me contacter pour un tarif solidaire ou un arrangement personnalisé. \nInscription & informations : \nContactez-moi directement pour réserver votre place ou pour toute question. \nJe me réjouis de vous retrouver pour cette journée de célébration\, d’intégration et d’expansion. \nAvec gratitude et joie immense de nous rassembler\,\nChristèle
URL:https://simplementetre.com/agenda/%f0%9f%8c%9f-journee-initiatique-cercle-solide-comme-un-roc-%f0%9f%8c%9f/
LOCATION:Privé : Salle Demeter\, Route de Passeiry 55\, Chancy\, 1284\, Switzerland
ATTACH;FMTTYPE=image/jpeg:https://simplementetre.com/wp-content/uploads/pexels-jplenio-1114883-scaled-e1765538007671.jpg
END:VEVENT
END:VCALENDAR