BEGIN:VCALENDAR
VERSION:2.0
PRODID:-//Simplement être : oser pour Être - ECPv6.15.17.1//NONSGML v1.0//EN
CALSCALE:GREGORIAN
METHOD:PUBLISH
X-WR-CALNAME:Simplement être : oser pour Être
X-ORIGINAL-URL:https://simplementetre.com
X-WR-CALDESC:Évènements pour Simplement être : oser pour Être
REFRESH-INTERVAL;VALUE=DURATION:PT1H
X-Robots-Tag:noindex
X-PUBLISHED-TTL:PT1H
BEGIN:VTIMEZONE
TZID:Europe/Zurich
BEGIN:DAYLIGHT
TZOFFSETFROM:+0100
TZOFFSETTO:+0200
TZNAME:CEST
DTSTART:20260329T010000
END:DAYLIGHT
BEGIN:STANDARD
TZOFFSETFROM:+0200
TZOFFSETTO:+0100
TZNAME:CET
DTSTART:20261025T010000
END:STANDARD
BEGIN:DAYLIGHT
TZOFFSETFROM:+0100
TZOFFSETTO:+0200
TZNAME:CEST
DTSTART:20270328T010000
END:DAYLIGHT
BEGIN:STANDARD
TZOFFSETFROM:+0200
TZOFFSETTO:+0100
TZNAME:CET
DTSTART:20271031T010000
END:STANDARD
BEGIN:DAYLIGHT
TZOFFSETFROM:+0100
TZOFFSETTO:+0200
TZNAME:CEST
DTSTART:20280326T010000
END:DAYLIGHT
BEGIN:STANDARD
TZOFFSETFROM:+0200
TZOFFSETTO:+0100
TZNAME:CET
DTSTART:20281029T010000
END:STANDARD
END:VTIMEZONE
BEGIN:VEVENT
DTSTART;VALUE=DATE:20270313
DTEND;VALUE=DATE:20270315
DTSTAMP:20260422T170011
CREATED:20251121T143430Z
LAST-MODIFIED:20260413T191235Z
UID:7910-1804896000-1805068799@simplementetre.com
SUMMARY:Solide Comme un Roc – 4 Jours pour une Transformation Profonde en Présentiel sur deux week-ends
DESCRIPTION:🌹 Solide comme un Roc – Expérience immersive en présentiel \nProgramme initiatique d’exception – Une seule fois par an \n4 jours de transformation exceptionnelle\, proposés uniquement à des dates puissantes et symboliques\, dans un format collectif rare et privilégié. \n📅 Dates :\nSamedi 13 – dimanche 14 mars 2027\nSamedi 27 – dimanche 28 mars 2027 (présentiel)\n💻 Séance Zoom : Samedi 20 mars à 20h (jour de l’équinoxe) et le lundi 12 avril à 19 h (jour suivant le dimanche de Quasimodo) \n📍 Lieu : Proximité Genève (adresse à venir)\n💎 Groupe restreint : 4 personnes pour un accompagnement profond et personnalisé\n📱 Accès WhatsApp privé tout au long du processus \n✨ Programme initiatique pour révéler stabilité\, force intérieure et autonomie \nSolide comme un Roc est un programme initiatique d’évolution personnelle hors du commun\, fondé sur la Haute Sagesse\, la Loi des 4 Éléments et la Force Primordiale.\nCe parcours unique transcende les échecs\, les limitations et les difficultés pour libérer votre potentiel\, vous reconnecter à votre unité et incarner un leadership aligné\, inspirant et durable. \nCe programme\, habituellement proposé en individuel\, a rencontré un immense succès en format collectif sur 4 jours cette année. Il offre une expérience immersive\, profonde et personnalisée\, dans un cadre confidentiel et bienveillant. \n🔑 Les 4 piliers du programme \n\nRessourcement : puisé à la Force Primordiale\, pour une régénération profonde\nRecentrage : retrouver l’unité Corps\, Âme\, Esprit\nMieux-être : libération des blocages\, du stress\, de l’anxiété et des influences négatives\nPerformance : déployer votre potentiel\, votre clarté et votre stabilité intérieure\n\n🌱 Pour qui ? \nCe programme s’adresse à tous ceux qui souhaitent : \n\nDévelopper leur leadership intérieur et inspirer autour d’eux\nÉliminer instantanément le stress\, le doute et la peur de l’avenir\nInstaurer en eux le calme\, la sérénité et la tranquillité mentale\nRéaliser l’unité parfaite Corps\, Âme\, Esprit\nAtteindre une paix intérieure profonde et durable\nÊtre « Solide comme un Roc » pour résoudre leurs défis et instaurer l’équilibre et l’harmonie intérieure\n\n💎 Ce que vous allez vivre et recevoir \n\nRessourcement à la Force Primordiale et régénération par des énergies puissantes\nRecentrage intérieur et clarté de vision\nLibération des blocages\, du doute\, de l’anxiété et de la peur\nAllègement du passé\, accès à une grande légèreté\nRayonnement d’une énergie solide\, stable et bénéfique\nMantras divins pour instaurer l’équilibre et l’harmonie intérieurs\nUn état énergétique intérieur de « Solide comme un Roc »\nUn espace pour déposer ce qui pèse\, se libérer\, et s’ouvrir à de nouvelles possibilités\n\n📅 Des dates puissantes et symboliques \n\nSamedi 13 mars : Ouverture du sas cosmique de l’équinoxe\, période de renouveau et d’équilibre\nSamedi 20 mars à 20h (Zoom) : Séance spéciale le jour exact de l’équinoxe\, pour ancrer la transformation\nSamedi 27 – dimanche 28 mars : Clôture lors du week-end de Pâques\, symbole de renaissance et de lumière retrouvée\n\n💬 Mon témoignage \nAvant de recevoir Solide comme un Roc\, j’avais accompagné des centaines de personnes sur leur chemin\, mais je sentais qu’un cycle se terminait pour moi. J’étais épuisée\, dans la confusion\, avec l’impression d’avoir atteint une limite intérieure. Après des mois de stagnation\, mon âme aspirait à un vrai renouveau. Quand j’ai découvert ces enseignements\, j’ai tout de suite ressenti que c’était ce que j’attendais depuis longtemps. \nGrâce à ce programme\, j’ai retrouvé une énergie et une force que je ne soupçonnais plus. Chaque jour\, je me suis sentie plus stable\, plus claire\, plus en paix. Aujourd’hui\, je prends du recul sur ce que je vis\, je me sens alignée et capable d’accueillir la vie avec plus de sérénité. C’est une vraie transformation\, et je mesure la chance d’avoir pu vivre ce chemin. \n🌟 Un chemin vers l’unité et la transformation \nCe programme sublime\, conçu selon la « Voie d’Or »\, s’appuie sur la compréhension des Lois Universelles qui régissent le macrocosme et le microcosme. Il vous guide vers la grandeur et la splendeur de votre Être\, en harmonie avec votre divinité intérieure. \n🤝 Prêt(e) à franchir le pas ? \nSi vous ressentez l’appel à incarner la paix\, le calme\, l’harmonie\, la force et l’unité\, je vous invite à me contacter pour un échange personnel et bienveillant.\nNous prendrons le temps d’explorer ensemble vos besoins\, vos aspirations et de voir comment ce programme peut vous accompagner sur votre voie unique. \nOsez vous offrir ce cadeau à vous-même.\nOsez la rencontre\, osez la transformation. \nInscription & informations\nContactez-moi pour un échange téléphonique ou inscrivez-vous directement ici :\nhttps://simplementetre.com/solide-roc/ \nImportant : Mes prestations ne sauraient se substituer à un suivi par un professionnel de santé\, médecin ou psychologue. \nAvec gratitude et confiance\,\nChristèle 🌹
URL:https://simplementetre.com/agenda/solide-comme-un-roc-stage-intensif-en-presentiel-2/
CATEGORIES:ouvert à tous
ATTACH;FMTTYPE=image/jpeg:https://simplementetre.com/wp-content/uploads/thumbnail_442a85bf-88dd-4eaf-b0e0-f451ae0a0743.jpeg
ORGANIZER;CN="Christ%C3%A8le Faranna%2C contact@simplementetre.com%2C 06 10 08 06 10%2C 079 175 72 96":MAILTO:contact@simplementetre.com
END:VEVENT
END:VCALENDAR