BEGIN:VCALENDAR
VERSION:2.0
PRODID:-//Simplement être : oser pour Être - ECPv6.15.17.1//NONSGML v1.0//EN
CALSCALE:GREGORIAN
METHOD:PUBLISH
X-WR-CALNAME:Simplement être : oser pour Être
X-ORIGINAL-URL:https://simplementetre.com
X-WR-CALDESC:Évènements pour Simplement être : oser pour Être
REFRESH-INTERVAL;VALUE=DURATION:PT1H
X-Robots-Tag:noindex
X-PUBLISHED-TTL:PT1H
BEGIN:VTIMEZONE
TZID:Europe/Zurich
BEGIN:DAYLIGHT
TZOFFSETFROM:+0100
TZOFFSETTO:+0200
TZNAME:CEST
DTSTART:20240331T010000
END:DAYLIGHT
BEGIN:STANDARD
TZOFFSETFROM:+0200
TZOFFSETTO:+0100
TZNAME:CET
DTSTART:20241027T010000
END:STANDARD
BEGIN:DAYLIGHT
TZOFFSETFROM:+0100
TZOFFSETTO:+0200
TZNAME:CEST
DTSTART:20250330T010000
END:DAYLIGHT
BEGIN:STANDARD
TZOFFSETFROM:+0200
TZOFFSETTO:+0100
TZNAME:CET
DTSTART:20251026T010000
END:STANDARD
BEGIN:DAYLIGHT
TZOFFSETFROM:+0100
TZOFFSETTO:+0200
TZNAME:CEST
DTSTART:20260329T010000
END:DAYLIGHT
BEGIN:STANDARD
TZOFFSETFROM:+0200
TZOFFSETTO:+0100
TZNAME:CET
DTSTART:20261025T010000
END:STANDARD
END:VTIMEZONE
BEGIN:VEVENT
DTSTART;TZID=Europe/Zurich:20250122T200000
DTEND;TZID=Europe/Zurich:20250122T213000
DTSTAMP:20260425T010326
CREATED:20250109T110545Z
LAST-MODIFIED:20250109T145521Z
UID:4197-1737576000-1737581400@simplementetre.com
SUMMARY:Activation
DESCRIPTION:Le thème de cette activation vous sera transmis début janvier. \nEn cocréation avec les Êtres Galactiques et pas que : \nJe suis heureuse de te proposer ce format d’activations qui te permet de recevoir des fréquences destinées à l’élévation et l’expansion de ton Être. \nLors de ces activations\, j’ai le plaisir d’être épaulée par Alexandre Quintero. \nLorsque j’ai rencontré Alexandre\, nous avons immédiatement su que nous avions déjà œuvré ensemble sur d’autres lignes temporelles. Après avoir partagé de nombreuses cérémonies  et avoir œuvré ensemble pour le collectif\, il est devenu évident que notre binôme serait amené à poursuivre le travail réalisé par le passé. Aussi\, je suis heureuse qu’il se joigne à moi pour ces activations et qu’il t’apporte une compréhension complémentaire très aiguisée. \nCes activations sont de véritables accélérateurs quantiques. Elles ont lieu chaque mercredi et sont ouvertes à toutes les personnes qui ont déjà entamé un processus d’évolution.  Dans ce cas\, même si je ne te connais pas\, sache que tu es le/la bienvenu(e).  Il te suffit de suivre l’appel de ton âme en t’inscrivant\, car l’intensité de ce que tu reçois est totalement en phase avec ton rythme et ta fréquence. \nLors de ces rencontres spécifiques\, tu enclenches un processus important en t’ouvrant pleinement au Recevoir. \n\nRecevoir les transmissions des Peuples Stellaires : Les Lyriens\, Les Arcturiens\, les Siriens\, les Pléiadiens.\nRecevoir les transmissions des peuples de l’intraterre : les Mayas et les peuples de l’Agartha.\nRecevoir les transmissions des Êtres Ascensionnés : Jesuah\, Marie\, Marie-Madeleine\, Tara\, Kwan-Hin\, Bouddha\, Isis et tant d’autres.\nRecevoir les transmissions des anciennes civilisations des peuples premiers.\n\nCes êtres sont tous transmetteur d’un amour inconditionnel. Ils s’unissent pour soutenir l’humanité et œuvrent pour l’évolution de la conscience humaine. Ils ouvrent de nombreux espaces de guérison et d’évolution à chaque personne qui donne son accord. \nAinsi\, les activations ont pour objectif : \n\nD’élever ta conscience\,\nDe travailler sur les différents plans de ton Être\,\nDe t’apporter la guérison sur un ou différents plans de ton Être\,\nDe te permettre une transformation avec une ou de nouvelles ouvertures.\n\nPar l’écoute des sons et des enseignements que j’ai l’honneur de pouvoir te transmettre avec le langage et la voix de mon âme\, tu intègres au cœur de tes cellules les fréquences\, les encodages\, les savoirs et les libérations qui te sont destinés. \nÉtant totalement guidée\, je ne peux pas te dire à l’avance quels peuples sont présents lors de chaque activation. \nEffectivement\, chaque activation est différente et tu sera informé de sa contenance et des Êtres en présences la semaine précédente (mail et page agenda). Je t’invite à écouter le murmure de ton Âme qui te guide jusque moi : toi seul sait ce qui est juste pour toi et à quel moment il est important que tu répondes Présent. \n✨ Modalités : \n\nUn mercredi sur deux (voir page agenda).\nEn ligne via Zoom\, ce qui te laisse la liberté d’y accéder peu importe où tu te trouves.\nÀ 20 heures.\nPrévoir une heure\, une heure trente.\nReplay transmis après l’activation.\n\nChaque activation est propre à chacun.  Il est essentiel de l’utiliser uniquement pour votre usage personnel. Je vous remercie par avance du respect de cette consigne et de votre collaboration. \n✨ Inscription : \n*Via WhatsApp  sur le numéro  00336 10 08 06 10 \n*Par mail : contact@simplementetre.com \nÀ réception de ton paiement\, tu reçois un lien Zoom pour me retrouver le jour J (si ce n’est pas le cas\, contacte-moi au plus vite\, car je ne suis pas à l’abri d’une coquille). \nNous nous réjouissons d’avance de t’y retrouver\, \nAvec Amour\, \nChristèle et Alexandre\, \nMerci de noter que mes prestations ne sauraient se substituer à un suivi par un professionnel de santé\, médecin ou psychologue.
URL:https://simplementetre.com/agenda/activation/
LOCATION:via zoom
CATEGORIES:Mixte
ATTACH;FMTTYPE=image/png:https://simplementetre.com/wp-content/uploads/Activation.png
END:VEVENT
END:VCALENDAR