BEGIN:VCALENDAR
VERSION:2.0
PRODID:-//Simplement être : oser pour Être - ECPv6.15.17.1//NONSGML v1.0//EN
CALSCALE:GREGORIAN
METHOD:PUBLISH
X-ORIGINAL-URL:https://simplementetre.com
X-WR-CALDESC:Évènements pour Simplement être : oser pour Être
REFRESH-INTERVAL;VALUE=DURATION:PT1H
X-Robots-Tag:noindex
X-PUBLISHED-TTL:PT1H
BEGIN:VTIMEZONE
TZID:Europe/Zurich
BEGIN:DAYLIGHT
TZOFFSETFROM:+0100
TZOFFSETTO:+0200
TZNAME:CEST
DTSTART:20240331T010000
END:DAYLIGHT
BEGIN:STANDARD
TZOFFSETFROM:+0200
TZOFFSETTO:+0100
TZNAME:CET
DTSTART:20241027T010000
END:STANDARD
BEGIN:DAYLIGHT
TZOFFSETFROM:+0100
TZOFFSETTO:+0200
TZNAME:CEST
DTSTART:20250330T010000
END:DAYLIGHT
BEGIN:STANDARD
TZOFFSETFROM:+0200
TZOFFSETTO:+0100
TZNAME:CET
DTSTART:20251026T010000
END:STANDARD
BEGIN:DAYLIGHT
TZOFFSETFROM:+0100
TZOFFSETTO:+0200
TZNAME:CEST
DTSTART:20260329T010000
END:DAYLIGHT
BEGIN:STANDARD
TZOFFSETFROM:+0200
TZOFFSETTO:+0100
TZNAME:CET
DTSTART:20261025T010000
END:STANDARD
END:VTIMEZONE
BEGIN:VEVENT
DTSTART;TZID=Europe/Zurich:20250622T103000
DTEND;TZID=Europe/Zurich:20250622T170000
DTSTAMP:20260424T041745
CREATED:20250109T144412Z
LAST-MODIFIED:20250616T113708Z
UID:4206-1750588200-1750611600@simplementetre.com
SUMMARY:Dimanche 22 juin - Journée d'Expansion dans les énergies du Solstice
DESCRIPTION:🌹 “Le changement est la clé qui t’ouvrira toutes les portes. Le changement de cœur et d’esprit. La balle a commencé à rouler : le nouveau jour est là\, et tu en fais partie si seulement tu veux bien l’accepter et l’accompagner : autrement\, tu seras laissé pour compte – Peu importe\, si hier n’a pas été tout ce qu’il aurait pu être. Hier est terminé et parti et tu ne peux rien y faire. En ce qui concerne aujourd’hui\, c’est une chose complètement différente : aujourd’hui s’étend devant toi\, intact et immaculé\, et il ne tient qu’à toi d’en faire le jour le plus merveilleux qui soit ” (issus du livre “La petite voix” de Eileen Caddy). \nLa conscience cherchant  à s’étendre\, encore et encore\, je vous propose de nous retrouver le dimanche 22 juin de 10h30 à 17 heures pour cette nouvelle journée d’Expansion qui aura exceptionnellement lieu un dimanche. Pourquoi cette date ? Le lendemain du Solstice ? Parce que la Grande Force Cosmique en a décidé ainsi ! Et je suis en Joie de servir sa Voix. \nCette formule plus douce et sans tambours nous enveloppera de la Puissance de la Grande Mère\, la Déesse Suprême qui ouvrira à travers moi de nombreux espaces de notre Conscience. Le Sas Cosmique dont nous bénéficierons grâce aux énergies du Jour du Solstice de la veille  sera une Puissante accélération sur notre chemin d’évolution et notre accès à l’Unité. \nLe son\, le souffle (respiration et méditation) le mouvement (danse libre et guidée\, danse tournante\, libération du bassin) les différents arts et les enseignements de Haute Sagesse animeront cette journée pour permettre à votre Pouvoir Créateur de se déployer. En toute sécurité\, dans la Puissance de la Douceur\, de l’Amour et de la Compassion\, nous convergeons ensemble vers la conscience Une  en réunissant nos fréquences et nos vérités.  Dans ce cadre bienveillant\, nous pouvons laisser totalement la place à Qui Nous Sommes pour déployer et manifester notre Lumière Suprême et notre Sagesse sur cette Terre. \nJe suis en Joie d’être \,une nouvelle fois\, au service de cette Force Cosmique et de cette entité incommensurable qui permettrons\, à travers moi\, de puissants espaces transformationnels  en chacun d’entre nous. En Joie que ces journées d’expansion  nous permettent d’unir nos spécificités et qu’elles nous réunissent dans la chair. Qu’elles nous offrent la possibilité de remplir nos Cœurs\,  nos Corps et nos Âmes  qui cherchent sans cesse à  s’exprimer et à créer ! Qu’elles nous permettent  d’œuvrer ensemble pour accompagner notre Conscience dans cette merveilleuse ascension qu’elle a entamée. \nJe vous remercie de partager cette proposition aux personnes qui\, par le chemin transformationnel déjà accompli\, peuvent accueillir les très  hautes fréquences qui se transmettent à travers moi. \nChristèle\, au service de la Divine Providence\, des Énergies Christiques\, de la Vie ! 🌹 \n  \n✨ Modalités : \n\nDimanche 22 juin  2025 de 10h30 – 17 heures – ouverture des portes à 10h15.\nLieu : Le Grain de Vie – Chemin Sur-Rang 9\, 1234 Vessy\, Suisse\nTarif : CHF 177 – Paiement a effectuer à l’inscription dans la totalité ou CHF 100 d’arrhes pour valider votre place .\nTenue : merci de prévoir une tenue souple\, si possible de couleur blanche. Le bleu ciel étant également bienvenu !\nRepas canadien et végétarien à partager (si possible sans gluten et sans lactose)\,\nPlaces limitées\nUn échange téléphonique est nécessaire si nous nous rencontrons pour la première fois.\n\nPour celles et ceux dont l’énergie m’est déjà familière\, une inscription par mail ou par message téléphonique convient parfaitement. \nMerci de noter que cette prestation n’a pas vocation à remplacer la médecine traditionnelle. \nCoordonnées bancaires : \nPour les personnes ayant un compte bancaire en Suisse : \n\nTitulaire du compte FARANNA Christèle – Simplement Être\nAdresse postale Rue Peillonex 26 – 1225 Chêne-Bourg\nNuméro de compte 16-564987-7\nIBAN CH96 0900 0000 1656 4987 7\nBIC POFICHBEXXX\n\nPour les personnes ne disposant pas d’un compte bancaire en Suisse : \n\nTitulaire du compte FARANNA Christèle – Simplement Être\nAdresse postale Rue Peillonex 26 – 1225 Chêne-Bourg\nNuméro de compte 16-564982-4\nIBAN CH72 0900 0000 1656 4982 4\nBIC POFICHBEXXX\n\nIl est également possible de payer par carte bancaire sur le site internet (choisir paiement en ligne puis montant au choix) :https://simplementetre.com/soins/ Je vous remercie toutefois de privilégier un paiement par virement bancaire.
URL:https://simplementetre.com/agenda/journee-dexpansion-solstice-ete/
LOCATION:Le Grain de Vie\, Chemin Sur-Rang 9\, Vessy\, 1234\, Switzerland
CATEGORIES:Mixte
ATTACH;FMTTYPE=image/jpeg:https://simplementetre.com/wp-content/uploads/magical-6046020_1920.jpg
ORGANIZER;CN="Christ%C3%A8le Faranna%2C contact@simplementetre.com%2C 06 10 08 06 10%2C 079 175 72 96":MAILTO:contact@simplementetre.com
END:VEVENT
END:VCALENDAR