BEGIN:VCALENDAR
VERSION:2.0
PRODID:-//Simplement être : oser pour Être - ECPv6.15.17.1//NONSGML v1.0//EN
CALSCALE:GREGORIAN
METHOD:PUBLISH
X-ORIGINAL-URL:https://simplementetre.com
X-WR-CALDESC:Évènements pour Simplement être : oser pour Être
REFRESH-INTERVAL;VALUE=DURATION:PT1H
X-Robots-Tag:noindex
X-PUBLISHED-TTL:PT1H
BEGIN:VTIMEZONE
TZID:Europe/Zurich
BEGIN:DAYLIGHT
TZOFFSETFROM:+0100
TZOFFSETTO:+0200
TZNAME:CEST
DTSTART:20240331T010000
END:DAYLIGHT
BEGIN:STANDARD
TZOFFSETFROM:+0200
TZOFFSETTO:+0100
TZNAME:CET
DTSTART:20241027T010000
END:STANDARD
BEGIN:DAYLIGHT
TZOFFSETFROM:+0100
TZOFFSETTO:+0200
TZNAME:CEST
DTSTART:20250330T010000
END:DAYLIGHT
BEGIN:STANDARD
TZOFFSETFROM:+0200
TZOFFSETTO:+0100
TZNAME:CET
DTSTART:20251026T010000
END:STANDARD
BEGIN:DAYLIGHT
TZOFFSETFROM:+0100
TZOFFSETTO:+0200
TZNAME:CEST
DTSTART:20260329T010000
END:DAYLIGHT
BEGIN:STANDARD
TZOFFSETFROM:+0200
TZOFFSETTO:+0100
TZNAME:CET
DTSTART:20261025T010000
END:STANDARD
END:VTIMEZONE
BEGIN:VEVENT
DTSTART;TZID=Europe/Zurich:20250809T103000
DTEND;TZID=Europe/Zurich:20250809T170000
DTSTAMP:20260424T000928
CREATED:20250617T220442Z
LAST-MODIFIED:20250803T162434Z
UID:4734-1754735400-1754758800@simplementetre.com
SUMMARY:Portail du Lion et pleine Lune en Verseau\, Samedi 9 août 2025\, Un rendez-vous cosmique d'une importance Capitale
DESCRIPTION:🌹 Une journée d’Expansion totalement différente\, un tournant décisif pour une nouvelle réalité. \n Bonjour\, \nJe suis heureuse de t’inviter à une journée d’Expansion inédite\, pour transformer ta conscience et créer une nouvelle réalité. \nNous avons rendez-vous pour ce tournant décisif ! Le Sas Cosmique de cette journée du samedi 9 août 2025\, amplifié par les énergies du Portail du Lion et de la pleine Lune en Verseau  sera une Puissante accélération sur notre chemin d’évolution et l’accès à l’Unité.  \nCette journée s’adresse à celles et ceux déjà engagés sur un chemin de développement personnel et spirituel\, qui ressentent l’appel d’aller plus loin et d’ouvrir de nouvelles dimensions de leur être. \nÀ l’issue de cette expérience\, tu repartiras avec une énergie renouvelée\, une clarté intérieure renforcée et des outils concrets pour continuer à élever ta conscience au quotidien. Tu pourras ressentir plus de paix\, d’harmonie\, de joie\, d’ancrage et de confiance dans tes choix de vie. \nTout au long de la journée\, tu seras guidé(e) par le Son\, le Souffle\, le Mouvement\, les Arts et les Enseignements de Haute Sagesse. Chaque instant est pensé pour t’aider à élever ton champ de conscience\, activer de nouvelles fréquences et recevoir des enseignements adaptés à cette nouvelle ère. \nC’est un espace pour te reconnecter à ta famille d’âmes\, partager tes vérités et t’autoriser à incarner pleinement ta lumière et ta sagesse dans ta vie quotidienne. \nChaque journée est unique\, initiatique et profondément transformative. Je t’accompagne avec bienveillance et discernement\, force et douceur\, dans un espace totalement sécurisé afin que tu puisses vivre cette expansion à ton rythme. \nLes places sont volontairement limitées à 8 personnes pour garantir un accompagnement personnalisé et une expérience intime. Chaque nouveau participant bénéficie d’un échange individuel avant l’inscription\, pour s’assurer que cette journée corresponde pleinement à ses besoins du moment. \nSi tu connais des personnes qui pourraient être touchées par cette proposition\, n’hésite pas à leur transmettre cette invitation. Ensemble\, nous pouvons créer un espace de transformation encore plus puissant. \nAvec Amour Divin\, \nChristèle\, au service des Énergies Divines et Christiques\, de la Vie ! 🌹 \n✨ Modalités : \n\nDate : Samedi 9 août  2025\, de 10h30 à 17 heures (ouverture des portes à 10h15).\nLieu :  Route de Passeiry 55 – 1284 Chancy\nTarif : CHF 177 (paiement à l’inscription  ou CHF 100 d’arrhes pour valider ta place).\nTenue : Prévois une tenue souple\, de préférence blanche\nRepas : Canadien et végétarien à partager (si possible sans gluten et sans lactose)\nPlaces limitées à 8 personnes\n\nPour réserver ta place ou poser tes questions\, contacte-moi directement au 0033 610 08 06 10 ou par mail à l’adresse  contact@simplementetre.com .  Je prendrai le temps d’échanger avec toi pour t’accompagner au mieux dans cette démarche. \n✨ Paiement ✨ \n\nPar virement bancaire (coordonnées ci-dessous\, merci de privilégier ce mode)\nPar carte bancaire sur le site : https://simplementetre.com/soins/\n\n  \nComptes bancaires Suisse et international : \nPour les personnes ayant un compte bancaire en Suisse : \n\nTitulaire du compte FARANNA Christèle – Simplement Être\nAdresse postale Rue Peillonex 26 – 1225 Chêne-Bourg\nNuméro de compte 16-564987-7\nIBAN CH96 0900 0000 1656 4987 7\nBIC POFICHBEXXX\n\nPour les personnes ne disposant pas d’un compte bancaire en Suisse : \n\nTitulaire du compte FARANNA Christèle – Simplement Être\nAdresse postale Rue Peillonex 26 – 1225 Chêne-Bourg\nNuméro de compte 16-564982-4\nIBAN CH72 0900 0000 1656 4982 4\nBIC POFICHBEXXX\n\nAvec Amour Divin\,\nChristèle\,\nAu service des Energies Divines et Christiques \nImportant\nMes prestations ne sauraient se substituer à un suivi médical ou psychologique. \n🌹✨
URL:https://simplementetre.com/agenda/portail-du-lion-et-pleine-lune-en-verseau-un-rendez-vous-cosmique-d-une-importance-capitale/
LOCATION:Privé : Salle Demeter\, Route de Passeiry 55\, Chancy\, 1284\, Switzerland
ATTACH;FMTTYPE=image/jpeg:https://simplementetre.com/wp-content/uploads/lion-3284746_640.jpg
END:VEVENT
END:VCALENDAR